BEGIN:VCALENDAR
VERSION:2.0
PRODID:-//Bedford Players Trust - ECPv6.3.3.1//NONSGML v1.0//EN
CALSCALE:GREGORIAN
METHOD:PUBLISH
X-ORIGINAL-URL:https://bedfordplayerstrust.org.uk
X-WR-CALDESC:Events for Bedford Players Trust
REFRESH-INTERVAL;VALUE=DURATION:PT1H
X-Robots-Tag:noindex
X-PUBLISHED-TTL:PT1H
BEGIN:VTIMEZONE
TZID:UTC
BEGIN:STANDARD
TZOFFSETFROM:+0000
TZOFFSETTO:+0000
TZNAME:UTC
DTSTART:20230101T000000
END:STANDARD
END:VTIMEZONE
BEGIN:VEVENT
DTSTART;TZID=UTC:20230407T080000
DTEND;TZID=UTC:20240331T170000
DTSTAMP:20260423T122607
CREATED:20230530T140653Z
LAST-MODIFIED:20230530T140653Z
UID:7411-1680854400-1711904400@bedfordplayerstrust.org.uk
SUMMARY:Memories of Mandela - Invisible Folk
DESCRIPTION:On April 7th 2000 Nelson Mandela came to Bedford to rededicate the bust of his friend and mentor Trevor Huddleston who was born in Bedford in 1913. The visit lasted less than an hour but it made a lasting impression on everyone who was there. Invisible Folk tracked down some of those people and asked them for their memories\, we collected them together to create this podcast. As well as talking to people who were on the streets of Bedford that day we also hear the story of how the visit actually came about. \nDuring research we located a YouTube film with 10 minutes of television hightlights sourced from both ITV (Anglia) and BBC (East of England). Can you spot your younger self?\nhttps://www.youtube.com/watch?v=gKHG4F0rBfI
URL:https://bedfordplayerstrust.org.uk/hshazevent/memories-of-mandela-invisible-folk/
CATEGORIES:Audio,Digital Event,Online
ATTACH;FMTTYPE=image/webp:https://bedfordplayerstrust.org.uk/wp-content/uploads/2023/05/mandela.webp
END:VEVENT
BEGIN:VEVENT
DTSTART;TZID=UTC:20231202T080000
DTEND;TZID=UTC:20240127T170000
DTSTAMP:20260423T122607
CREATED:20230615T111011Z
LAST-MODIFIED:20230615T111627Z
UID:7490-1701504000-1706374800@bedfordplayerstrust.org.uk
SUMMARY:The Magic of Everyday - Orphan Pixel Co.
DESCRIPTION:Look out for 2 locations hidden across the High Street popping up this Autumn & Winter.\nThis video installation project uses visual storytelling\, embedded into High Street buildings that tell the hidden\, every-day stories of the people & business owners that have lived & worked on the High Street as it changes and develops.\nThis project seeks to find the extraordinary in the ordinary\, drawing on ideas of silent cinema to tell short stories through video.
URL:https://bedfordplayerstrust.org.uk/hshazevent/the-magic-of-everyday-orphan-pixel-co/
LOCATION:To Be Announced
CATEGORIES:Digital Event,Outdoor
END:VEVENT
END:VCALENDAR