BEGIN:VCALENDAR
VERSION:2.0
PRODID:-//Bedford Players Trust - ECPv6.3.3.1//NONSGML v1.0//EN
CALSCALE:GREGORIAN
METHOD:PUBLISH
X-WR-CALNAME:Bedford Players Trust
X-ORIGINAL-URL:https://bedfordplayerstrust.org.uk
X-WR-CALDESC:Events for Bedford Players Trust
REFRESH-INTERVAL;VALUE=DURATION:PT1H
X-Robots-Tag:noindex
X-PUBLISHED-TTL:PT1H
BEGIN:VTIMEZONE
TZID:UTC
BEGIN:STANDARD
TZOFFSETFROM:+0000
TZOFFSETTO:+0000
TZNAME:UTC
DTSTART:20230101T000000
END:STANDARD
END:VTIMEZONE
BEGIN:VEVENT
DTSTART;VALUE=DATE:20230819
DTEND;VALUE=DATE:20230820
DTSTAMP:20260423T174211
CREATED:20230602T154525Z
LAST-MODIFIED:20230724T160243Z
UID:7445-1692403200-1692489599@bedfordplayerstrust.org.uk
SUMMARY:Drawing Bedford Together - Circus of Illustration
DESCRIPTION:The Circus of Illustration have commissioned a collection of new illustrations inspired by Bedford’s High Street for an exciting new zine titled Drawing Bedford Together. In pairing local experienced and aspiring artists together\, the legacy of the project will be felt far beyond its completion and will culminate with a celebratory drawing event in the town centre for families.\nThe event will be on Saturday 19th August where copies of the zine will be available!\nThe Circus of Illustration are an informal collective of illustrators and creatives\, dedicated to promoting drawing and illustration in Bedford and the surrounding area. We currently host a monthly Drink and Draw for anyone interested in drawing.
URL:https://bedfordplayerstrust.org.uk/hshazevent/bedford-heritage-zine-circus-of-illustration/
LOCATION:Harpur Square\, Harpur Square\, Bedford\, Bedfordshire\, MK40 1AR\, United Kingdom
CATEGORIES:Live Event,Outdoor
ATTACH;FMTTYPE=image/jpeg:https://bedfordplayerstrust.org.uk/wp-content/uploads/2023/06/drawing-poster-insta-copy2-scaled.jpg
END:VEVENT
END:VCALENDAR